BEGIN:VCALENDAR
VERSION:2.0
PRODID:-//Squarespace Inc/Squarespace 6//v6//EN
BEGIN:VEVENT
UID:5de69c62ae38e01033115d66@squarespace.com
DTSTAMP:20191203T173409Z
DTSTART:20200114T220000Z
DTEND:20200114T230000Z
SUMMARY:Champaign Unit
GEO:40.131136;-88.252481
LOCATION:VFW Post 5520\, 609 Edgebrook\, Champaign\, IL
END:VEVENT
END:VCALENDAR
