BEGIN:VCALENDAR
VERSION:2.0
PRODID:-//Squarespace Inc/Squarespace 6//v6//EN
BEGIN:VEVENT
UID:5de7d4432aee26493f1cd45e@squarespace.com
DTSTAMP:20191204T154412Z
DTSTART:20200414T210000Z
DTEND:20200414T220000Z
SUMMARY:Champaign Unit
GEO:40.131136;-88.252481
LOCATION:VFW Post 5520\, 609 Edgebrook\, Champaign\, IL
END:VEVENT
END:VCALENDAR
