BEGIN:VCALENDAR
VERSION:2.0
PRODID:-//Squarespace Inc/Squarespace 6//v6//EN
BEGIN:VEVENT
UID:5de7d498a6dd143c62723abf@squarespace.com
DTSTAMP:20191204T154540Z
DTSTART:20200811T210000Z
DTEND:20200811T220000Z
SUMMARY:Champaign Unit
GEO:40.131136;-88.252481
LOCATION:VFW Post 5520\, 609 Edgebrook\, Champaign\, IL
END:VEVENT
END:VCALENDAR
