BEGIN:VCALENDAR
VERSION:2.0
PRODID:-//Squarespace Inc/Squarespace 6//v6//EN
BEGIN:VEVENT
UID:5de7d4e82aee26493f1cec3a@squarespace.com
DTSTAMP:20200925T200717Z
DTSTART:20201208T230000Z
DTEND:20201209T000000Z
SUMMARY:Champaign Unit
GEO:40.131136;-88.252481
LOCATION:VFW Post 5520\, 609 Edgebrook\, Champaign\, IL
END:VEVENT
END:VCALENDAR
