BEGIN:VCALENDAR
VERSION:2.0
PRODID:-//Squarespace Inc/Squarespace 6//v6//EN
BEGIN:VEVENT
UID:5de7d481a6dd143c62723806@squarespace.com
DTSTAMP:20191204T154519Z
DTSTART:20200714T210000Z
DTEND:20200714T220000Z
SUMMARY:Champaign Unit
GEO:40.131136;-88.252481
LOCATION:VFW Post 5520\, 609 Edgebrook\, Champaign\, IL
END:VEVENT
END:VCALENDAR
