BEGIN:VCALENDAR
VERSION:2.0
PRODID:-//Squarespace Inc/Squarespace 6//v6//EN
BEGIN:VEVENT
UID:5de69bbd18b97b7638c6aa15@squarespace.com
DTSTAMP:20191203T173103Z
DTSTART:20200111T003000Z
DTEND:20200111T013000Z
SUMMARY:Construction Unit
GEO:39.743203;-89.712351
LOCATION:IBEW Local 51\, 3171 Greenhead Dr.\, Springfield\, IL
END:VEVENT
END:VCALENDAR
