BEGIN:VCALENDAR
VERSION:2.0
PRODID:-//Squarespace Inc/Squarespace 6//v6//EN
BEGIN:VEVENT
UID:5c2d0fb688251ba315bbbebf@squarespace.com
DTSTAMP:20191204T143614Z
DTSTART:20200101T120000Z
DTEND:20200101T210000Z
SUMMARY:First Quarter Union Dues
END:VEVENT
END:VCALENDAR
