BEGIN:VCALENDAR
VERSION:2.0
PRODID:-//Squarespace Inc/Squarespace 6//v6//EN
BEGIN:VEVENT
UID:5de7c42a89bdad6667661602@squarespace.com
DTSTAMP:20191204T143557Z
DTSTART:20200401T110000Z
DTEND:20200401T200000Z
SUMMARY:Second Quarter Union Dues
END:VEVENT
END:VCALENDAR
