BEGIN:VCALENDAR
VERSION:2.0
PRODID:-//Squarespace Inc/Squarespace 6//v6//EN
BEGIN:VEVENT
UID:5de7c46b1b6573332f013567@squarespace.com
DTSTAMP:20191204T143644Z
DTSTART:20200701T110000Z
DTEND:20200701T200000Z
SUMMARY:Third Quarter Union Dues
END:VEVENT
END:VCALENDAR
