BEGIN:VCALENDAR
VERSION:2.0
PRODID:-//Squarespace Inc/Squarespace 6//v6//EN
BEGIN:VEVENT
UID:5de7c48f2aee26493f1a9ec5@squarespace.com
DTSTAMP:20191204T143758Z
DTSTART:20201001T110000Z
DTEND:20201001T200000Z
SUMMARY:Fourth Quarter Union Dues
END:VEVENT
END:VCALENDAR
