BEGIN:VCALENDAR
VERSION:2.0
PRODID:-//Squarespace Inc/Squarespace 6//v6//EN
BEGIN:VEVENT
UID:5c2ceb9e1ae6cf9b886abb5b@squarespace.com
DTSTAMP:20190102T164957Z
DTSTART:20190905T210000Z
DTEND:20190905T220000Z
SUMMARY:Wood River Unit
GEO:38.673065;-90.014011
LOCATION:IBEW Local 309\, 2000A Mall St.\, Collinsville\, IL
END:VEVENT
END:VCALENDAR
