BEGIN:VCALENDAR
VERSION:2.0
PRODID:-//Squarespace Inc/Squarespace 6//v6//EN
BEGIN:VEVENT
UID:5c2cebc288251b4996975394@squarespace.com
DTSTAMP:20190102T165200Z
DTSTART:20190905T213000Z
DTEND:20190905T223000Z
SUMMARY:Springfield Unit
GEO:40.720756;-74.000761
LOCATION:IBEW Local 51\, 3171 Greenhead Dr.\, Springfield\, IL
END:VEVENT
END:VCALENDAR
