BEGIN:VCALENDAR
VERSION:2.0
PRODID:-//Squarespace Inc/Squarespace 6//v6//EN
BEGIN:VEVENT
UID:5c2ceb734fa51a03a8b4f979@squarespace.com
DTSTAMP:20190102T164920Z
DTSTART:20190905T210000Z
DTEND:20190905T220000Z
SUMMARY:Galesburg Unit
GEO:40.720756;-74.000761
LOCATION:Knoxville American Legion\, 749 Henderson Rd.\, Knoxville\, IL
END:VEVENT
END:VCALENDAR
