BEGIN:VCALENDAR
VERSION:2.0
PRODID:-//Squarespace Inc/Squarespace 6//v6//EN
BEGIN:VEVENT
UID:5c2ceb2903ce64cdbb56890d@squarespace.com
DTSTAMP:20190102T164801Z
DTSTART:20190904T210000Z
DTEND:20190904T220000Z
SUMMARY:Lincoln Unit
GEO:40.720756;-74.000761
LOCATION:KC Hall\, 217 Limit St.\, Lincoln\, IL
END:VEVENT
END:VCALENDAR
