BEGIN:VCALENDAR
VERSION:2.0
PRODID:-//Squarespace Inc/Squarespace 6//v6//EN
BEGIN:VEVENT
UID:5c2ceabd40ec9ab2ea4c3689@squarespace.com
DTSTAMP:20190102T164611Z
DTSTART:20190903T200000Z
DTEND:20190903T210000Z
SUMMARY:Havana Unit
GEO:40.720756;-74.000761
LOCATION:VFW\, 425 W. Ave\, Havana\, IL
END:VEVENT
END:VCALENDAR
