BEGIN:VCALENDAR
VERSION:2.0
PRODID:-//Squarespace Inc/Squarespace 6//v6//EN
BEGIN:VEVENT
UID:5c1bccac88251b5d88dee586@squarespace.com
DTSTAMP:20181220T170947Z
DTSTART:20190921T130000Z
DTEND:20190921T210000Z
SUMMARY:Executive Board &amp\; Local 51 Picnic 
GEO:40.720756;-74.000761
LOCATION:IBEW Local 51\, 3171 Greenhead Dr.\, Springfield\, IL
END:VEVENT
END:VCALENDAR
