BEGIN:VCALENDAR
VERSION:2.0
PRODID:-//Squarespace Inc/Squarespace 6//v6//EN
BEGIN:VEVENT
UID:5c1bcc64f950b7a45f5455fa@squarespace.com
DTSTAMP:20181220T170808Z
DTSTART:20190902T110000Z
DTEND:20190902T210000Z
SUMMARY:Office Closed - Labor Day Holiday
END:VEVENT
END:VCALENDAR
