BEGIN:VCALENDAR
VERSION:2.0
PRODID:-//Squarespace Inc/Squarespace 6//v6//EN
BEGIN:VEVENT
UID:5c2ced1488251b4996976794@squarespace.com
DTSTAMP:20190102T165607Z
DTSTART:20190912T193000Z
DTEND:20190912T203000Z
SUMMARY:Decatur Unit
GEO:40.720756;-74.000761
LOCATION:IBEW Local 146\, 3390 N. Woodford St.\, Decatur\, IL
END:VEVENT
END:VCALENDAR
