BEGIN:VCALENDAR
VERSION:2.0
PRODID:-//Squarespace Inc/Squarespace 6//v6//EN
BEGIN:VEVENT
UID:5c2cecacc2241bc8b40d632f@squarespace.com
DTSTAMP:20190403T185202Z
DTSTART:20190911T233000Z
DTEND:20190912T003000Z
SUMMARY:Jacksonville Unit
GEO:39.73497;-90.22795
LOCATION:American Legion Post 279\, 903 W. Superior Ave.\, Jacksonville\, I
 L
END:VEVENT
END:VCALENDAR
