BEGIN:VCALENDAR
VERSION:2.0
PRODID:-//Squarespace Inc/Squarespace 6//v6//EN
BEGIN:VEVENT
UID:5c2cec884d7a9c2ebb163b13@squarespace.com
DTSTAMP:20190102T165354Z
DTSTART:20190911T200000Z
DTEND:20190911T210000Z
SUMMARY:Baldwin Unit
GEO:40.720756;-74.000761
LOCATION:Bullpen\, 101 N. Van Buren St.\, New Athens\, IL
END:VEVENT
END:VCALENDAR
