BEGIN:VCALENDAR
VERSION:2.0
PRODID:-//Squarespace Inc/Squarespace 6//v6//EN
BEGIN:VEVENT
UID:5c2cec4b70a6adae0b4867fd@squarespace.com
DTSTAMP:20190102T165312Z
DTSTART:20190910T213000Z
DTEND:20190910T223000Z
SUMMARY:Champaign Unit
GEO:40.720756;-74.000761
LOCATION:VFW Post 5520\, 609 Edgebrook\, Champaign\, IL
END:VEVENT
END:VCALENDAR
