BEGIN:VCALENDAR
VERSION:2.0
PRODID:-//Squarespace Inc/Squarespace 6//v6//EN
BEGIN:VEVENT
UID:5c2ce77d0e2e72e38d9f7f0e@squarespace.com
DTSTAMP:20190102T163216Z
DTSTART:20190809T233000Z
DTEND:20190810T003000Z
SUMMARY:Construction Unit
GEO:40.720756;-74.000761
LOCATION:IBEW Local 51\, 3171 Greenhead Dr.\, Springfield\, IL
END:VEVENT
END:VCALENDAR
