BEGIN:VCALENDAR
VERSION:2.0
PRODID:-//Squarespace Inc/Squarespace 6//v6//EN
BEGIN:VEVENT
UID:5c2ce75340ec9ab2ea4bffec@squarespace.com
DTSTAMP:20190102T163142Z
DTSTART:20190808T203000Z
DTEND:20190808T213000Z
SUMMARY:Peoria Unit
GEO:41.984515;-88.142894
LOCATION:VFW 2602\, 1505 E. Lake St\,.\, Peoria Heights\, IL
END:VEVENT
END:VCALENDAR
