BEGIN:VCALENDAR
VERSION:2.0
PRODID:-//Squarespace Inc/Squarespace 6//v6//EN
BEGIN:VEVENT
UID:5c2ce6b2032be425c6a0f4dd@squarespace.com
DTSTAMP:20190102T162854Z
DTSTART:20190807T200000Z
DTEND:20190807T210000Z
SUMMARY:Clinton Unit
GEO:40.720756;-74.000761
LOCATION:1520 E. South St.\, Clinton\, IL
END:VEVENT
END:VCALENDAR
