BEGIN:VCALENDAR
VERSION:2.0
PRODID:-//Squarespace Inc/Squarespace 6//v6//EN
BEGIN:VEVENT
UID:5c2ce6581ae6cf9b886a6717@squarespace.com
DTSTAMP:20190102T162743Z
DTSTART:20190806T200000Z
DTEND:20190806T210000Z
SUMMARY:Havana Unit
GEO:35.78599;-78.649343
LOCATION:VFW\, 425 N. Ave\, Havana\, IL
END:VEVENT
END:VCALENDAR
