BEGIN:VCALENDAR
VERSION:2.0
PRODID:-//Squarespace Inc/Squarespace 6//v6//EN
BEGIN:VEVENT
UID:5c2ce7ba562fa795d8a3ec3b@squarespace.com
DTSTAMP:20190102T163330Z
DTSTART:20190814T200000Z
DTEND:20190814T210000Z
SUMMARY:Baldwin Unit
GEO:40.720756;-74.000761
LOCATION:Bullpen\, 101 N. Van Buren St.\, New Athens\, IL
END:VEVENT
END:VCALENDAR
