BEGIN:VCALENDAR
VERSION:2.0
PRODID:-//Squarespace Inc/Squarespace 6//v6//EN
BEGIN:VEVENT
UID:5c2ce5dd88251b499696fd4b@squarespace.com
DTSTAMP:20190102T162537Z
DTSTART:20190801T210000Z
DTEND:20190801T220000Z
SUMMARY:Galesburg Unit
GEO:40.720756;-74.000761
LOCATION:Knoxville American Legion\, 749 Henderson Rd.\, Knoxville\, IL
END:VEVENT
END:VCALENDAR
