BEGIN:VCALENDAR
VERSION:2.0
PRODID:-//Squarespace Inc/Squarespace 6//v6//EN
BEGIN:VEVENT
UID:5c2ce20288251b499696ca1c@squarespace.com
DTSTAMP:20190102T160910Z
DTSTART:20190709T210000Z
DTEND:20190709T220000Z
SUMMARY:Galesburg Unit
GEO:40.720756;-74.000761
LOCATION:Knoxville American Legion\, 749 Henderson Rd.\, Knoxville\, IL
END:VEVENT
END:VCALENDAR
