BEGIN:VCALENDAR
VERSION:2.0
PRODID:-//Squarespace Inc/Squarespace 6//v6//EN
BEGIN:VEVENT
UID:5c1bcbde758d46c10a369b07@squarespace.com
DTSTAMP:20181220T170557Z
DTSTART:20190704T110000Z
DTEND:20190704T210000Z
SUMMARY:Office Closed - Independence Day
END:VEVENT
END:VCALENDAR
