BEGIN:VCALENDAR
VERSION:2.0
PRODID:-//Squarespace Inc/Squarespace 6//v6//EN
BEGIN:VEVENT
UID:5c2cdcad03ce64cdbb55ba7a@squarespace.com
DTSTAMP:20190102T154610Z
DTSTART:20190703T220000Z
DTEND:20190703T230000Z
SUMMARY:LaSalle Unit
GEO:40.720756;-74.000761
LOCATION:Eagles Lodge\, 830 Harrison St.\, Peru\, IL
END:VEVENT
END:VCALENDAR
