BEGIN:VCALENDAR
VERSION:2.0
PRODID:-//Squarespace Inc/Squarespace 6//v6//EN
BEGIN:VEVENT
UID:5c2cdc5a21c67c14304d3244@squarespace.com
DTSTAMP:20190102T154456Z
DTSTART:20190703T200000Z
DTEND:20190703T210000Z
SUMMARY:Clinton Unit
GEO:33.859919;-118.173692
LOCATION:1520 E. South St.\, Clinton\, IL
END:VEVENT
END:VCALENDAR
