BEGIN:VCALENDAR
VERSION:2.0
PRODID:-//Squarespace Inc/Squarespace 6//v6//EN
BEGIN:VEVENT
UID:5c2cdc1470a6adae0b477ee8@squarespace.com
DTSTAMP:20190102T154345Z
DTSTART:20190702T213000Z
DTEND:20190702T223000Z
SUMMARY:Springfield Unit
GEO:40.720756;-74.000761
LOCATION:IBEW Local 51\, 3171 Greenhead Dr.\, Springfield\, IL
END:VEVENT
END:VCALENDAR
