BEGIN:VCALENDAR
VERSION:2.0
PRODID:-//Squarespace Inc/Squarespace 6//v6//EN
BEGIN:VEVENT
UID:5c2cdbf02b6a28bef1c18e3b@squarespace.com
DTSTAMP:20190102T154307Z
DTSTART:20190702T200000Z
DTEND:20190702T210000Z
SUMMARY:Havana Unit
GEO:40.720756;-74.000761
LOCATION:VFW\, 425 W. Ave.\, Havana\, IL
END:VEVENT
END:VCALENDAR
