BEGIN:VCALENDAR
VERSION:2.0
PRODID:-//Squarespace Inc/Squarespace 6//v6//EN
BEGIN:VEVENT
UID:5c2cdc3bb8a0456c72e6e555@squarespace.com
DTSTAMP:20190102T154417Z
DTSTART:20190702T220000Z
DTEND:20190702T230000Z
SUMMARY:Bloomington Unit
GEO:40.720756;-74.000761
LOCATION:IBEW Local 197\, 2407 Beich Rd.\, Bloomington\, IL
END:VEVENT
END:VCALENDAR
