BEGIN:VCALENDAR
VERSION:2.0
PRODID:-//Squarespace Inc/Squarespace 6//v6//EN
BEGIN:VEVENT
UID:5c2ce353032be425c6a0c591@squarespace.com
DTSTAMP:20190102T161459Z
DTSTART:20190712T233000Z
DTEND:20190713T003000Z
SUMMARY:Construction Unit
GEO:40.720756;-74.000761
LOCATION:IBEW Local 51\, 3171 Greenhead Dr.\, Springfield\, IL
END:VEVENT
END:VCALENDAR
