BEGIN:VCALENDAR
VERSION:2.0
PRODID:-//Squarespace Inc/Squarespace 6//v6//EN
BEGIN:VEVENT
UID:5c2ce2eccd836676a1c46c8c@squarespace.com
DTSTAMP:20190102T161258Z
DTSTART:20190711T193000Z
DTEND:20190711T203000Z
SUMMARY:Decatur Unit
GEO:40.720756;-74.000761
LOCATION:IBEW Local 146\, 3390 N. Woodford St.\, Decatur\, IL
END:VEVENT
END:VCALENDAR
