BEGIN:VCALENDAR
VERSION:2.0
PRODID:-//Squarespace Inc/Squarespace 6//v6//EN
BEGIN:VEVENT
UID:5c2ce2866d2a73e6a9cebea7@squarespace.com
DTSTAMP:20190102T161119Z
DTSTART:20190710T210000Z
DTEND:20190710T220000Z
SUMMARY:Wood River Unit
GEO:38.673098;-90.014097
LOCATION:IBEW Local 309\, 2000A Mall St\, Collinsville\, IL
END:VEVENT
END:VCALENDAR
