BEGIN:VCALENDAR
VERSION:2.0
PRODID:-//Squarespace Inc/Squarespace 6//v6//EN
BEGIN:VEVENT
UID:5c2ce2b20ebbe85745010f76@squarespace.com
DTSTAMP:20190403T185029Z
DTSTART:20190710T233000Z
DTEND:20190711T003000Z
SUMMARY:Jacksonville Unit
GEO:40.720756;-74.000761
LOCATION:American Legion Post 279\, 903 W. Superior Ave.\, Jacksonville\, I
 L
END:VEVENT
END:VCALENDAR
