BEGIN:VCALENDAR
VERSION:2.0
PRODID:-//Squarespace Inc/Squarespace 6//v6//EN
BEGIN:VEVENT
UID:5c1bcbbb758d46c10a369961@squarespace.com
DTSTAMP:20181220T170520Z
DTSTART:20190701T110000Z
DTEND:20190701T210000Z
SUMMARY:3Qtr2019 Union Dues
END:VEVENT
END:VCALENDAR
