BEGIN:VCALENDAR
VERSION:2.0
PRODID:-//Squarespace Inc/Squarespace 6//v6//EN
BEGIN:VEVENT
UID:5c1bcb374ae237e2349d5567@squarespace.com
DTSTAMP:20181220T170305Z
DTSTART:20190608T130000Z
DTEND:20190608T170000Z
SUMMARY:ALBAT Training
GEO:40.720756;-74.000761
LOCATION:Decatur\, IL
END:VEVENT
END:VCALENDAR
