BEGIN:VCALENDAR
VERSION:2.0
PRODID:-//Squarespace Inc/Squarespace 6//v6//EN
BEGIN:VEVENT
UID:5c1bcb64562fa7a59c075041@squarespace.com
DTSTAMP:20181220T170355Z
DTSTART:20190607T110000Z
DTEND:20190607T210000Z
SUMMARY:Local 51 Election Count
END:VEVENT
END:VCALENDAR
