BEGIN:VCALENDAR
VERSION:2.0
PRODID:-//Squarespace Inc/Squarespace 6//v6//EN
BEGIN:VEVENT
UID:5c2cd8f2758d46566d1f0779@squarespace.com
DTSTAMP:20190102T153533Z
DTSTART:20190606T213000Z
DTEND:20190606T223000Z
SUMMARY:Springfield Unit
GEO:32.486119;-93.819395
LOCATION:IBEW Local 51\, 3171 Greenhead Dr.\, Springfield\, IL\, United Sta
 tes
END:VEVENT
END:VCALENDAR
