BEGIN:VCALENDAR
VERSION:2.0
PRODID:-//Squarespace Inc/Squarespace 6//v6//EN
BEGIN:VEVENT
UID:5c2cd83721c67c14304cf6ba@squarespace.com
DTSTAMP:20190102T152709Z
DTSTART:20190605T210000Z
DTEND:20190605T220000Z
SUMMARY:Lincoln Unit
GEO:40.720756;-74.000761
LOCATION:KC Hall\, 217 Limit St.\, Lincoln\, IL
END:VEVENT
END:VCALENDAR
