BEGIN:VCALENDAR
VERSION:2.0
PRODID:-//Squarespace Inc/Squarespace 6//v6//EN
BEGIN:VEVENT
UID:5c2cd857b8a0456c72e6b1c2@squarespace.com
DTSTAMP:20190102T152752Z
DTSTART:20190605T220000Z
DTEND:20190605T230000Z
SUMMARY:LaSalle Unit
GEO:40.720756;-74.000761
LOCATION:Eagles Lodge\, 830 Harrison St.\, Peru\, IL
END:VEVENT
END:VCALENDAR
