BEGIN:VCALENDAR
VERSION:2.0
PRODID:-//Squarespace Inc/Squarespace 6//v6//EN
BEGIN:VEVENT
UID:5c2cd811c2241bc8b40c403a@squarespace.com
DTSTAMP:20190102T152638Z
DTSTART:20190605T200000Z
DTEND:20190605T210000Z
SUMMARY:Clinton Unit
GEO:40.720756;-74.000761
LOCATION:1520 E. South St.\, Clinton\, IL
END:VEVENT
END:VCALENDAR
