BEGIN:VCALENDAR
VERSION:2.0
PRODID:-//Squarespace Inc/Squarespace 6//v6//EN
BEGIN:VEVENT
UID:5c2cd7bff950b760dd73d9a4@squarespace.com
DTSTAMP:20190102T152515Z
DTSTART:20190604T200000Z
DTEND:20190604T210000Z
SUMMARY:Havana Unit
GEO:34.098165;-118.213937
LOCATION:VFW\, 425 W. Ave\, Havana\, IL
END:VEVENT
END:VCALENDAR
