BEGIN:VCALENDAR
VERSION:2.0
PRODID:-//Squarespace Inc/Squarespace 6//v6//EN
BEGIN:VEVENT
UID:5c2cd7e42b6a28bef1c15652@squarespace.com
DTSTAMP:20190102T152551Z
DTSTART:20190604T220000Z
DTEND:20190604T230000Z
SUMMARY:Bloomington Unit
GEO:40.478711;-89.007099
LOCATION:IBEW Local 197\, 2407 Beich Rd.\, Bloomington\, IL
END:VEVENT
END:VCALENDAR
