BEGIN:VCALENDAR
VERSION:2.0
PRODID:-//Squarespace Inc/Squarespace 6//v6//EN
BEGIN:VEVENT
UID:5c1bcb8c70a6ad0eeee1e288@squarespace.com
DTSTAMP:20181220T170446Z
DTSTART:20190622T130000Z
DTEND:20190623T020000Z
SUMMARY:Executive Board
GEO:40.720756;-74.000761
LOCATION:IBEW Local 51\, 3171 Greenhead Dr.\, Springfield\, IL
END:VEVENT
END:VCALENDAR
