BEGIN:VCALENDAR
VERSION:2.0
PRODID:-//Squarespace Inc/Squarespace 6//v6//EN
BEGIN:VEVENT
UID:5c2cd9ec88251b4996965aa2@squarespace.com
DTSTAMP:20190102T153654Z
DTSTART:20190613T203000Z
DTEND:20190613T213000Z
SUMMARY:Peoria Unit
GEO:36.056625;-90.466372
LOCATION:VFW 2602\, 1505 East Lake Street\, Peoria Heights\, IL\, United St
 ates
END:VEVENT
END:VCALENDAR
