BEGIN:VCALENDAR
VERSION:2.0
PRODID:-//Squarespace Inc/Squarespace 6//v6//EN
BEGIN:VEVENT
UID:5c2cd95f758d46566d1f0e8f@squarespace.com
DTSTAMP:20190102T153217Z
DTSTART:20190612T200000Z
DTEND:20190612T210000Z
SUMMARY:Baldwin Unit
GEO:40.720756;-74.000761
LOCATION:Bullpen\, 101 N. Van Buren St.\, New Athens\, IL
END:VEVENT
END:VCALENDAR
